Workbook
Name ADD_HL_LIST_MO_MARKER: 'Список территорий'!$G$17
Name ALL_FILES: modUIButtons!$B$1
Name ATH_SCHEME: TECHSHEET!$X$3
Name AUTHORIZATION_MODE: TECHSHEET!$M$10
Name CALC_IDENTIFIER: TECHSHEET!$G$14
Name CHANGE_HL_LIST_MO_COLUMN_MARKER: 'Список территорий'!$D$14
Name chkGetUpdatesValue: Инструкция!$AA$95
Name chkNoUpdatesValue: Инструкция!$AA$97
Name CNCSN_IP_LIST_RANGE: REESTR_CNCSN_IP!$A$2:$G$111
Name CNCSN_LIST: REESTR_CNCSN_IP!$B$2:$G$47
Name CNCSN_NAME_LIST: REESTR_CNCSN_IP!$C$2:$C$47
Name code: Инструкция!$B$2
Name COLDVSNA_BAL_PR_ADD_HL_MARKER: ХВС.БПр!$G$132
Name COLDVSNA_BAL_PR_ADD_RANGE: ХВС.БПр!$1:$28
Name COLDVSNA_BAL_PR_CALC_AREA: ХВС.БПр!$F$131:$AV$132
Name COLDVSNA_BAL_PR_DELETE_HL_COLUMN_MARKER: ХВС.БПр!$E$124
Name COLDVSNA_BAL_PR_EMPTY_RANGE: ХВС.БПр!$H$1:$BF$28
Name COLDVSNA_BAL_PR_END_COLUMN_MARKER: ХВС.БПр!$AS$120
Name COLDVSNA_BAL_PR_NUM_COLUMN_MARKER: ХВС.БПр!$B$124
Name COLDVSNA_BAL_PR_RANGE: ХВС.БПр!$H$29:$BF$56
Name COLDVSNA_BAL_TR_ADD_HL_MARKER: ХВС.БТр!$G$132
Name COLDVSNA_BAL_TR_ADD_RANGE: ХВС.БТр!$1:$28
Name COLDVSNA_BAL_TR_CALC_AREA: ХВС.БТр!$F$131:$AC$132
Name COLDVSNA_BAL_TR_DELETE_HL_COLUMN_MARKER: ХВС.БТр!$E$124
Name COLDVSNA_BAL_TR_EMPTY_RANGE: ХВС.БТр!$H$1:$BF$28
Name COLDVSNA_BAL_TR_END_COLUMN_MARKER: ХВС.БТр!$AC$119
Name COLDVSNA_BAL_TR_NUM_COLUMN_MARKER: ХВС.БТр!$B$124
Name COLDVSNA_BAL_TR_RANGE: ХВС.БТр!$H$29:$BF$56
Name COLDVSNA_CALC_ADD_HL_MARKER: ХВС.РО!$AT$18
Name COLDVSNA_CALC_ADD_RANGE: COLDVSNA_REAGENT_TECH_VERTICAL!#REF!
Name COLDVSNA_CALC_ADD_RANGE: HEAT_FUEL_TECH_VERTICAL!#REF!
Name COLDVSNA_CALC_ADD_RANGE: VOTV_CALC_TECH_VERTICAL!#REF!
Name COLDVSNA_CALC_ADD_RANGE: VOTV_REAGENT_TECH_VERTICAL!#REF!
Name COLDVSNA_CALC_ADD_RANGE: COLDVSNA_CALC_TECH_VERTICAL!$AB$3:$AD$363
Name COLDVSNA_CALC_AREA: ХВС.РО!$AS$23:$AT$306
Name COLDVSNA_CALC_BALANCE_ROW_MARKER: ХВС.РО!$AN$240
Name COLDVSNA_CALC_CI_ROW_MARKER: ХВС.РО!$AN$210
Name COLDVSNA_CALC_COST_ROW_MARKER: ХВС.РО!$AN$203
Name COLDVSNA_CALC_D_AREA: COLDVSNA_REAGENT_TECH_VERTICAL!#REF!
Name COLDVSNA_CALC_D_AREA: HEAT_FUEL_TECH_VERTICAL!#REF!
Name COLDVSNA_CALC_D_AREA: VOTV_CALC_TECH_VERTICAL!#REF!
Name COLDVSNA_CALC_D_AREA: VOTV_REAGENT_TECH_VERTICAL!#REF!
Name COLDVSNA_CALC_D_AREA: COLDVSNA_CALC_TECH_VERTICAL!$AE$290:$AG$306
Name COLDVSNA_CALC_DELETE_HL_ROW_MARKER: ХВС.РО!$AS$18
Name COLDVSNA_CALC_ECONOMY_SUM_10_ROW_MARKER: ХВС.РО!$AN$351
Name COLDVSNA_CALC_ECONOMY_SUM_11_ROW_MARKER: ХВС.РО!$AN$357
Name COLDVSNA_CALC_EMPTY_BASE_RANGE: COLDVSNA_REAGENT_TECH_VERTICAL!#REF!
Name COLDVSNA_CALC_EMPTY_BASE_RANGE: HEAT_FUEL_TECH_VERTICAL!#REF!
Name COLDVSNA_CALC_EMPTY_BASE_RANGE: VOTV_CALC_TECH_VERTICAL!#REF!
Name COLDVSNA_CALC_EMPTY_BASE_RANGE: VOTV_REAGENT_TECH_VERTICAL!#REF!
Name COLDVSNA_CALC_EMPTY_BASE_RANGE: COLDVSNA_CALC_TECH_VERTICAL!$AB$23:$AD$363
Name COLDVSNA_CALC_EXTENDED_AREA: ХВС.РО!$AP$313:$AP$332
Name COLDVSNA_CALC_EXTENDED_CLN_AREA: ХВС.РО!$AP$319:$AP$322
Name COLDVSNA_CALC_EXTENDED_FACILITY_1_AREA: ХВС.РО!$AP$320
Name COLDVSNA_CALC_EXTENDED_PR_AREA: ХВС.РО!$AP$315:$AP$317
Name COLDVSNA_CALC_EXTENDED_SL_AREA: ХВС.РО!$AP$328:$AP$331
Name COLDVSNA_CALC_EXTENDED_TR_AREA: ХВС.РО!$AP$324:$AP$326
Name COLDVSNA_CALC_INV_DATA_CN: ХВС.РО!$AP$286
Name COLDVSNA_CALC_INV_DATA_IP: ХВС.РО!$AP$266
Name COLDVSNA_CALC_IP_EXCEPT_CN_1_ROW_MARKER: ХВС.РО!$AN$250

Sheet Инструкция
AA1: (требуется обновление)
B2: ="Код отчёта: " & GetCode() -> Код отчёта: CALC.WARM.MULTI.2.52
B3: ="Версия " & GetVersion() -> Версия 5.3.2
B5: ="Показатели организаций коммунального комплекса за " & PERIOD & " год (факт)" -> Показатели организаций коммунального комплекса за 2024 год (факт)
E7: • На рабочем месте должен быть установлен MS Office 2003 SP3, 2007 SP3, 2010, 2013, 2016, 2019 с полной версией MS Excel • Макросы во время работы должны быть включены (!) • Для корректной работы отчёта требуется выбрать низкий уровень безопасности (В меню MS Excel 2003: Сервис | Макрос | Безопасность | выбрать пункт «Низкая безопасность» | OK) (В меню MS Excel 2007/2010/2013/2016/2019: Параметры Excel | Центр управления безопасностью | Параметры центра управления безопасностью | Параметры макросов | Включить все макросы | ОК) • Если Вы работаете в табличном процессоре MS Excel 2007 и выше, то можете использовать для работы формат XLSB (Двоичная книга Excel). При работе в формате XLSB заметно быстрее происходит сохранение файла, а также уменьшается размер по сравнению с форматами XLS и XLSM • Не рекомендуется снимать защиту с листов и каким-либо образом модифицировать защищаемые формулы и расчётные поля, в противном случае, отчёт будет отклонён системой • При сохранении не следует выбирать формат XLSX (Книга Excel), так как в указанном формате макросы, необходимые для работы отчёта, безвозвратно удаляются
E21: A | F21: - предназначенные для заполнения | O21: A | P21: - ссылки и автозаполняемые поля
E22: A | F22: - с формулами и константами | O22: A | P22: - обязательные для заполнения
E35: Если в предложенном Вам списке необходимая организация, МР/МО отсутствуют, обновите реестры с помощью кнопок на листе "Список организаций" В результате синхронизации с базой данных список организаций (МР/МО) будет заменён актуальным (механизм синхронизации требует подключения к сети Интернет и основан на использовании протокола HTTPS (TCP порт 443)) Если после обновления Вам не удалось найти необходимую организацию в списке, обратитесь к ответственному за поддержание реестра Вашего региона.
E41: Адрес сервера ЕИАС для запроса данных: | R41: https://eias.ru
E46: • При сохранении шаблона осуществляется проверка корректности данных, в том числе на наличие значений в ячейках, обязательных для заполнения • Если какая-то ячейка не удовлетворяет условию проверки, на лист «Проверка» добавляется гиперссылка на данную ячейку и указывается причина ошибки • В колонке «Статус» для каждого сообщения возможны 2 значения: ошибка и предупреждение • При наличии сообщений со статусом «Ошибка» шаблон будет отклонён системой и не будет загружен в хранилище данных, сообщения со статусом «Предупреждение» носят информационный характер, и такой шаблон будет принят системой
E59: Консультации: | K59: Обратиться за помощью
E60: Дистрибутивы: | K60: Перейти
E73: Руководство по заполнению: | K73: Перейти к руководству по заполнению
E77: Сопровождение: | K77: Обратиться за помощью
E78: Отчётные формы: | K78: Перейти к разделу
E79: Хранилище документов: | K79: Руководство по загрузке документов
E93: При наличии подключения к Интернет, можно автоматически проверять наличие доступных обновлений. Выберите способ оповещения о наличии обновлений для отчёта:
F95: проверять доступные обновления (рекомендуется) | AA95: y
F97: никогда не проверять наличие обновлений (не рекомендуется)
E103: Использовать прокси-сервер для запроса обновлений | R103: нет
E104: Адрес прокси-сервера
E105: Порт

Sheet Лог обновления
A2: 3/17/2012 12:12:41 AM | B2: Дата/Время | C2: Сообщение | D2: Статус
B3: 3/6/2026 6:05:00 PM | C3: Проверка доступных обновлений... | D3: Информация
B4: 3/6/2026 6:05:01 PM | C4: Доступно обновление до версии 1.0.4 | D4: Информация
B5: 3/6/2026 6:05:01 PM | C5: Описание изменений: Версия 1.0.4 - Модификация формул в строках 536:542, 563:569 на листе "Т" - Модификация формул в блоке "Фактически исполнено инвестиций за [отчётный] год, тыс.руб." на листе "КС" Версия 1.0.3 - Модификация формул в блоке "Полезный отпуск продукции всего" (строка 1104) на листе "Т" Версия 1.0.2 - Модификация формул в блоке "Фактически исполнено инвестиций за [отчётный] год, тыс.руб." на листе "КС" Версия 1.0.1 - Модификация формул расчёта на листе "БПр" | D5: Информация
B6: 3/6/2026 6:05:01 PM | C6: Размер файла обновления: 322560 байт | D6: Информация
B7: 3/6/2026 6:05:09 PM | C7: Обновление отменено пользователем | D7: Предупреждение

Sheet Титульный
E4: - обновление индикаторов проверки отчёта
E5: Технико-экономические показатели регулируемой организации (факт)
E7: Субъект РФ | H7: Нижегородская область | Q7: MANDATORY
E9: Отчётный период | H9: 2024 | Q9: MANDATORY
H10: Год | Q10: MANDATORY
E12: RST_ORG_ID | H12: 26322355 | Q12: MANDATORY
E14: Наименование юридического лица | H14: ЗАО "Концерн "Термаль" | Q14: MANDATORY
E15: Наименование (описание) обособленного подразделения | O15: 5412526 | Q15: OPTIONAL
E16: ИНН | H16: 5261017382 | O16: 5257048 | Q16: MANDATORY
E17: КПП | H17: 526101001 | O17: 5431579 | Q17: MANDATORY
E18: Организационно-правовая форма | H18: 1 22 67 | Непубличные акционерные общества | J18: Где найти? | Q18: MANDATORY
E19: Вид(-ы) деятельности организации | H19: Некомбинированное производство :: Передача :: Сбыт | O19: =IF(LEN(H19)=0,"",VLOOKUP(H19,VDET_ID_LIST,2,FALSE)) -> 2386758237 | Q19: MANDATORY
E20: ="Наличие статуса " & SPHERE_SPECIFIC_STATUS & " *" -> Наличие статуса ЕТО * | H20: нет | J20: =IF(SPHERE_SPECIFIC_STATUS_DESCRIPTION="","",SPHERE_SPECIFIC_STATUS_DESCRIPTION) -> * ЕТО - единая теплоснабжающая организация | Q20: OPTIONAL
E21: ="URL-ссылка на документ, подтверждающий статус " & SPHERE_SPECIFIC_STATUS -> URL-ссылка на документ, подтверждающий статус ЕТО | Q21: OPTIONAL
E23: ="Наличие нерегулируемых (других регулируемых, кроме " & TEMPLATE_SPHERE & ") видов деятельности" -> Наличие нерегулируемых (других регулируемых, кроме теплоснабжения) видов деятельности | H23: да | Q23: MANDATORY
E24: ="Наличие раздельного учёта затрат по регулируемым видам деятельности в сфере " & TEMPLATE_SPHERE -> Наличие раздельного учёта затрат по регулируемым видам деятельности в сфере теплоснабжения | H24: да | Q24: MANDATORY
E25: Плательщик НДС | H25: да | Q25: MANDATORY
E26: Является ли организация подведомственной Министерства Обороны РФ | H26: нет | Q26: MANDATORY
E27: ="Является ли деятельность в сфере " & TEMPLATE_SPHERE & " профильным видом деятельности" -> Является ли деятельность в сфере теплоснабжения профильным видом деятельности | H27: нет | Q27: MANDATORY
E30: ОГРН | H30: 1025203560854 | J30: Где найти? | Q30: MANDATORY
E31: Код по ОКПО | H31: 36737437 | J31: Где найти? | Q31: MANDATORY
E33: ="Государственное и (или) муниципальное участие " & IF(H17="отсутствует","в индивидуальном предпринимателе","в юридическом лице") -> Государственное и (или) муниципальное участие в юридическом лице | F33: Наличие | H33: нет | Q33: MANDATORY
F34: Сведения о доле | H34: 0 % | Q34: MANDATORY
F35: ="Преобладающий тип собственности " & IF(H17="отсутствует","в индивидуальном предпринимателе","в юридическом лице") -> Преобладающий тип собственности в юридическом лице | H35: частная | Q35: MANDATORY
E38: Контактные данные
E40: Ответственный за предоставление информации | F40: ФИО | H40: Шунаев Игорь Борисович | Q40: MANDATORY
F41: Должность | H41: главный инженер | Q41: MANDATORY
F42: Контактный телефон | H42: (831) 233-44-48 | Q42: MANDATORY
F43: e-mail | H43: tremalenergy@yandex.ru | Q43: MANDATORY
E45: Дата последнего обновления реестра организаций: 09.09.2025 10:29:58
E46: Дата последнего обновления данных мониторинга принятых тарифных решений на 2024 год: 09.09.2025 10:37:29
E47: Дата последнего обновления обновления параметров проверки отчёта: 09.09.2025 10:29:58
E49: Показывать настройки проверки при сохранении

Sheet modSheetTitle

Sheet Список территорий
G4: ="Перечень муниципальных образований, на территории которых организация оказывает услуги " & TEMPLATE_SPHERE -> Перечень муниципальных образований, на территории которых организация оказывает услуги теплоснабжения
F12: № п/п | G12: Муниципальный район | H12: Муниципальное образование | I12: ОКТМО | J12: Тип муниципального образования | M12: Плательщик НДС | N12: Дополнительные признаки дифференциации тарифов | P12: Проверить наличие наименования в справочнике | Q12: SRC | AC12: Вид(-ы) теплоносителя(-ей) | AJ12: Вид воды | AQ12: Вид сточных вод | BV12: =IF(TEMPLATE_SPHERE_CODE="HEAT","Размерность тарифа на транспортировку " & RESOURCE_IDENTIFIER,"") -> Размерность тарифа на транспортировку ТЭ | CI12: ="Оказание услуг в течение " & god & " года (все потребители, включая собственные нужды)" -> Оказание услуг в течение 2024 года (все потребители, включая собственные нужды)
CJ13: Январь | CK13: Февраль | CL13: Март | CM13: Апрель | CN13: Май | CO13: Июнь | CP13: Июль | CQ13: Август | CR13: Сентябрь | CS13: Октябрь | CT13: Ноябрь | CU13: Декабрь
F15: 0
E16: О | F16: 1 | G16: город Нижний Новгород | H16: город Нижний Новгород | I16: 22701000 | J16: =IF(LEN(I16)=0,"",VLOOKUP(I16,OKTMO_VS_TYPE_LIST,2,FALSE)) -> городской округ | M16: =IF(TAX="","",TAX) -> да | Q16: =IF('Список объектов'!$Q$16="","Не определено",'Список объектов'!$Q$16) -> 1 | S16: =IF(КС!$Q$16="","Не определено",КС!$Q$16) -> 0 | T16: =IF(ТН!$Q$16="","Не определено",ТН!$Q$16) -> 0 | V16: 110.1 | AC16: Тариф: Носитель - горячая вода (Т) | CJ16: a | CK16: a | CL16: a | CM16: a | CN16: a | CO16: a | CP16: a | CQ16: a | CR16: a | CS16: a | CT16: a | CU16: a
G17: Добавить территорию
F19: Дата последнего обновления реестра МР/МО/ОКТМО: 09.09.2025 10:29:55

Sheet Список объектов
G4: ="Перечень объектов организаций, оказывающих услуги " & TEMPLATE_SPHERE -> Перечень объектов организаций, оказывающих услуги теплоснабжения
F12: № п/п | G12: Муниципальный район | H12: Муниципальное образование | I12: ОКТМО | Q12: Количество объектов | R12: NUMBER | S12: =IF(TEMPLATE_SPHERE_CODE="HEAT","Производство",IF(TEMPLATE_SPHERE_CODE="COLDVSNA","Производство (подъём / добыча)",IF(TEMPLATE_SPHERE_CODE="VOTV","Приём сточных вод",""))) -> Производство | U12: =IF(TEMPLATE_SPHERE_CODE="HEAT","Передача",IF(TEMPLATE_SPHERE_CODE="COLDVSNA","Очистка воды",IF(TEMPLATE_SPHERE_CODE="VOTV","Очистка сточных вод",""))) -> Передача | W12: =IF(TEMPLATE_SPHERE_CODE="HEAT","Сбыт",IF(TEMPLATE_SPHERE_CODE="COLDVSNA","Транспортировка воды",IF(TEMPLATE_SPHERE_CODE="VOTV","Транспортировка сточных вод",""))) -> Сбыт | AB12: № п/п | AC12: Наименование объекта | AD12: Тип объекта | AE12: Виды деятельности | AH12: Адрес объекта | AU12: Территория оказания услуг | BH12: =IF(TEMPLATE_SPHERE_CODE="HEAT","Производство",IF(TEMPLATE_SPHERE_CODE="COLDVSNA","Производство (подъём / добыча)",IF(TEMPLATE_SPHERE_CODE="VOTV","Приём сточных вод",""))) -> Производство | BJ12: =IF(TEMPLATE_SPHERE_CODE="HEAT","Передача",IF(TEMPLATE_SPHERE_CODE="COLDVSNA","Очистка воды",IF(TEMPLATE_SPHERE_CODE="VOTV","Очистка сточных вод",""))) -> Передача | BL12: =IF(TEMPLATE_SPHERE_CODE="HEAT","Сбыт",IF(TEMPLATE_SPHERE_CODE="COLDVSNA","Транспортировка воды",IF(TEMPLATE_SPHERE_CODE="VOTV","Транспортировка сточных вод",""))) -> Сбыт | BP12: =IF(TEMPLATE_SPHERE_CODE="HEAT","FUEL_LIST","") -> FUEL_LIST | CD12: Комментарии
AE13: =IF(TEMPLATE_SPHERE_CODE="HEAT","Производство",IF(TEMPLATE_SPHERE_CODE="COLDVSNA","Производство (подъём / добыча)",IF(TEMPLATE_SPHERE_CODE="VOTV","Приём сточных вод",""))) -> Производство | AF13: =IF(TEMPLATE_SPHERE_CODE="HEAT","Передача",IF(TEMPLATE_SPHERE_CODE="COLDVSNA","Очистка воды",IF(TEMPLATE_SPHERE_CODE="VOTV","Очистка сточных вод",""))) -> Передача | AG13: =IF(TEMPLATE_SPHERE_CODE="HEAT","Сбыт",IF(TEMPLATE_SPHERE_CODE="COLDVSNA","Транспортировка воды",IF(TEMPLATE_SPHERE_CODE="VOTV","Транспортировка сточных вод",""))) -> Сбыт | AH13: Муниципальный район | AI13: Муниципальное образование | AJ13: ОКТМО | AK13: Населённый пункт | AL13: ОКТМО | AM13: улица, проезд, проспект, переулок и т.п. | AN13: дом, корпус, строение | AU13: Муниципальный район | AV13: Муниципальное образование | AW13: ОКТМО | AX13: Населённый пункт | AY13: ОКТМО | BH13: ="Установленная мощность, " & IF(TEMPLATE_SPHERE_CODE="HEAT","Гкал/час",IF(TEMPLATE_SPHERE_CODE="COLDVSNA","куб.м/час",IF(TEMPLATE_SPHERE_CODE="VOTV","куб.м/час",""))) -> Установленная мощность, Гкал/час | BI13: ="Подключенная нагрузка, " & IF(TEMPLATE_SPHERE_CODE="HEAT","Гкал/час",IF(TEMPLATE_SPHERE_CODE="COLDVSNA","куб.м/час",IF(TEMPLATE_SPHERE_CODE="VOTV","куб.м/час",""))) -> Подключенная нагрузка, Гкал/час | BJ13: ="Установленная мощность, " & IF(TEMPLATE_SPHERE_CODE="HEAT","Гкал/час",IF(TEMPLATE_SPHERE_CODE="COLDVSNA","куб.м/час",IF(TEMPLATE_SPHERE_CODE="VOTV","куб.м/час",""))) -> Установленная мощность, Гкал/час | BK13: ="Подключенная нагрузка, " & IF(TEMPLATE_SPHERE_CODE="HEAT","Гкал/час",IF(TEMPLATE_SPHERE_CODE="COLDVSNA","куб.м/час",IF(TEMPLATE_SPHERE_CODE="VOTV","куб.м/час",""))) -> Подключенная нагрузка, Гкал/час | BL13: ="Установленная мощность, " & IF(TEMPLATE_SPHERE_CODE="HEAT","Гкал/час",IF(TEMPLATE_SPHERE_CODE="COLDVSNA","куб.м/час",IF(TEMPLATE_SPHERE_CODE="VOTV","куб.м/час",""))) -> Установленная мощность, Гкал/час | BM13: ="Подключенная нагрузка, " & IF(TEMPLATE_SPHERE_CODE="HEAT","Гкал/час",IF(TEMPLATE_SPHERE_CODE="COLDVSNA","куб.м/час",IF(TEMPLATE_SPHERE_CODE="VOTV","куб.м/час",""))) -> Подключенная нагрузка, Гкал/час
S14: IC | T14: CL | U14: IC | V14: CL | W14: IC | X14: CL
F15: 0
E16: Удалить | F16: =IF('Список территорий'!$F$16="","",'Список территорий'!$F$16) -> 1 | G16: =IF('Список территорий'!$G$16="","",'Список территорий'!$G$16) -> город Нижний Новгород | H16: =IF('Список территорий'!$H$16="","",'Список территорий'!$H$16) -> город Нижний Новгород | I16: =IF('Список территорий'!$I$16="","",'Список территорий'!$I$16) -> 22701000 | Q16: =ROW(P18)-ROW(P16)-1 -> 1 | R16: =F16 & ".0" -> 1.0 | S16: =SUM(BH16:BH18) -> 5.6 | T16: =SUM(BI16:BI18) -> 4.82 | U16: =SUM(BJ16:BJ18) -> 5.6 | V16: =SUM(BK16:BK18) -> 4.82 | W16: =SUM(BL16:BL18) -> 5.6 | X16: =SUM(BM16:BM18) -> 4.82 | AB16: 0
Z17: Изменить | AA17: О | AB17: 1 | AC17: котельная с сетями | AD17: ТИ с сетями | AE17: да | AF17: да | AG17: да | AH17: город Нижний Новгород | AI17: город Нижний Новгород | AJ17: 22701000 | AK17: г Нижний Новгород | AL17: 22701000001 | AM17: пр. Гагарина | AN17: 178 | AU17: Город Нижний Новгород | AV17: Город Нижний Новгород | AW17: 22701000 | AX17: г Нижний Новгород | AY17: 22701000001 | BH17: 5.6 | BI17: 4.82 | BJ17: 5.6 | BK17: 4.82 | BL17: 5.6 | BM17: 4.82 | BP17: [Газ природный]
AC18: Добавить объект
G19: Добавить территорию
G21: Примечания:
G22: 1. Необходимо перечислить все объекты регулируемой инфраструктуры, для которых предоставляются технико-экономические показатели на расчётных листах блока по территории
G23: 2. Выбор объектов доступен только в рамках территорий (ОКТМО), для которых информация по соответствующим видам деятельности представлена в мониторингах реестра объектов инфраструктуры
F25: Дата последнего обновления данных мониторинга "Реестр объектов инфраструктуры": 09.09.2025 10:37:29

Sheet КС
G4: ="Перечень заключённых концессионных соглашений, действующих в течение " & god & " года, для организаций, оказывающих услуги " & TEMPLATE_SPHERE -> Перечень заключённых концессионных соглашений, действующих в течение 2024 года, для организаций, оказывающих услуги теплоснабжения
F12: № п/п | G12: Муниципальный район | H12: Муниципальное образование | I12: ОКТМО | N12: Дополнительные признаки дифференциации тарифов | Q12: Количество позиций | R12: NUMBER | AB12: № п/п | AC12: Тип | AD12: Наименование | AE12: Является смешанной концессией | AF12: Сферы смешанной концессии | AH12: ="Выбор КС по данным мониторинга принятых тарифных решений на " & god & " год" -> Выбор КС по данным мониторинга принятых тарифных решений на 2024 год | AI12: Сроки реализации / действия концессионного соглашения | AL12: URL-ссылка на концессионное соглашение | AN12: Реквизиты решения | AU12: ="Запланировано инвестиций на весь период действия (с момента заключения до окончания действия КС, план на весь период действия), в том числе по КС, срок действия по которым истек в " & god-1 & " году, тыс.руб." -> Запланировано инвестиций на весь период действия (с момента заключения до окончания действия КС, план на весь период действия), в том числе по КС, срок действия по которым истек в 2023 году, тыс.руб. | BA12: ="Запланировано инвестиций с момента заключения КС по 31.12." & god-1 & ", тыс.руб." -> Запланировано инвестиций с момента заключения КС по 31.12.2023, тыс.руб. | BG12: ="Фактически исполнено инвестиций с момента заключения КС по 31.12." & god-1 & ", тыс.руб." -> Фактически исполнено инвестиций с момента заключения КС по 31.12.2023, тыс.руб. | BM12: ="Запланировано инвестиций на " & god & " год, тыс.руб." -> Запланировано инвестиций на 2024 год, тыс.руб. | CK12: ="Фактически исполнено инвестиций за " & god & " год, тыс.руб." -> Фактически исполнено инвестиций за 2024 год, тыс.руб. | DH12: Перечень ИП, которые выполняются в рамках КС
AI13: Дата начала | AJ13: Дата окончания | AN13: Наименование | AO13: Вид | AP13: Номер | AQ13: Дата принятия | AR13: URL-ссылка на решение | BM13: Всего | BN13: Собственные средства | BS13: Привлеченные средства | BY13: Бюджетное финансирование | CC13: Прочие источники | CK13: Всего | CL13: Собственные средства | CQ13: Привлеченные средства | CW13: Бюджетное финансирование | DA13: Прочие источники | DI13: № п/п | DJ13: Наименование ИП | DM13: ="Запланировано инвестиций на " & god & " год, тыс.руб." -> Запланировано инвестиций на 2024 год, тыс.руб. | DN13: ="Фактически исполнено инвестиций за " & god & " год, тыс.руб." -> Фактически исполнено инвестиций за 2024 год, тыс.руб. | DP13: URL-ссылка на ИП | DS13: PLN IP SUM | DT13: FCT IP SUM | DU13: PLN IP SUM CONSISTENCY | DV13: FCT IP SUM CONSISTENCY | DW13: CNCSN SUM FACT | DX13: PLN CNCSN SUM | DY13: FCT CNCSN SUM | DZ13: CNCSN SUM PLAN TOTAL | EA13: CNCSN SUM CONSISTENCY FCT + PLN | EB13: CNCSN SUM CONSISTENCY PLN + PLN | EE13: Комментарии
AU14: Всего | AV14: Частные инвестиции | AW14: Расходы / плата концедента | AX14: Объём возмещения частных инвестиций из тарифа | BA14: Всего | BB14: Частные инвестиции | BC14: Расходы / плата концедента | BD14: Объём возмещения частных инвестиций из тарифа | BG14: Всего | BH14: Частные инвестиции | BI14: Расходы / плата концедента | BJ14: Объём возмещения частных инвестиций из тарифа | BN14: Всего | BO14: Прибыль, направляемая на инвестиции | BP14: Амортизационные отчисления | BQ14: Плата за подключение (технологическое присоединение) | BR14: Прочие собственные средства | BS14: Всего | BT14: Кредиты | BU14: Займы. Всего | BV14: Займы, предоставленные Фондом ЖКХ за счёт средств ФНБ | BW14: Прочие займы | BX14: Прочие привлечённые средства | BY14: Всего | BZ14: Федеральный бюджет | CA14: Бюджет субъекта РФ | CB14: Бюджет муниципального образования | CC14: Всего | CD14: Лизинг | CE14: Прочие | CF14: =IF(TEMPLATE_SPHERE_CODE="VOTV","Доход от взимания платы за нарушение нормативов по объему и (или) составу сточных вод","") | CG14: =IF(TEMPLATE_SPHERE_CODE="VOTV","Доход от взимания платы за негативное воздействие на работу централизованной системы водоотведения","") | CL14: Всего | CM14: Прибыль, направляемая на инвестиции | CN14: Амортизационные отчисления | CO14: Плата за подключение (технологическое присоединение) | CP14: Прочие собственные средства | CQ14: Всего | CR14: Кредиты | CS14: Займы. Всего | CT14: Займы, предоставленные Фондом ЖКХ за счёт средств ФНБ | CU14: Прочие займы | CV14: Прочие привлечённые средства | CW14: Всего | CX14: Федеральный бюджет | CY14: Бюджет субъекта РФ | CZ14: Бюджет муниципального образования | DA14: Всего | DB14: Лизинг | DC14: Прочие | DD14: =IF(TEMPLATE_SPHERE_CODE="VOTV","Доход от взимания платы за нарушение нормативов по объему и (или) составу сточных вод","") | DE14: =IF(TEMPLATE_SPHERE_CODE="VOTV","Доход от взимания платы за негативное воздействие на работу централизованной системы водоотведения","")
F15: 0
E16: Удалить | F16: =IF('Список территорий'!$F$16="","",'Список территорий'!$F$16) -> 1 | G16: =IF('Список территорий'!$G$16="","",'Список территорий'!$G$16) -> город Нижний Новгород | H16: =IF('Список территорий'!$H$16="","",'Список территорий'!$H$16) -> город Нижний Новгород | I16: =IF('Список территорий'!$I$16="","",'Список территорий'!$I$16) -> 22701000 | N16: =IF('Список территорий'!$N$16="","",'Список территорий'!$N$16) | Q16: =COUNTIF(AA16:AA17,"О") -> 0 | R16: =F16 & ".0" -> 1.0 | AB16: 0
AC17: Добавить
G18: Добавить организацию
G20: Примечание:
G21: Необходимо перечислить все заключённые концессионные соглашения, действующие в отчётном периоде на территориях муниципальных образований по организации
F24: Дата последнего обновления данных мониторинга принятых тарифных решений: (обновление не выполнялось)
F25: Дата последнего обновления данных мониторинга инвестиционных программ: 09.09.2025 10:31:57

Sheet ТН
G4: ="Перечень тарифов, действовавших в течение " & god & " года и применявшихся при оказании услуги " & TEMPLATE_SPHERE & " населению" -> Перечень тарифов, действовавших в течение 2024 года и применявшихся при оказании услуги теплоснабжения населению | AQ4: =SUM(AQ15:AQ18) -> 0 | CI4: =IF(TEMPLATE_SPHERE_CODE="HEAT","Гкал",IF(TEMPLATE_SPHERE_CODE="COLDVSNA","куб.м",IF(TEMPLATE_SPHERE_CODE="VOTV","куб.м","ед.изм."))) -> Гкал
F12: № п/п | G12: Муниципальный район | H12: Муниципальное образование | I12: ОКТМО | N12: Дополнительные признаки дифференциации тарифов | Q12: Количество позиций | R12: NUMBER | AB12: № п/п | AC12: Дополнительные признаки дифференциации тарифов | AE12: ="ЭОТ, с НДС, руб./" & $CI$4 -> ЭОТ, с НДС, руб./Гкал | AF12: ="ТФН, с НДС, руб./" & $CI$4 -> ТФН, с НДС, руб./Гкал | AH12: Муниципальный район | AI12: Муниципальное образование | AJ12: ОКТМО | AK12: Тип муниципального образования | AO12: На период | AQ12: ="Объём отпуска услуги населению, " & $CI$4 -> Объём отпуска услуги населению, Гкал | BG12: Сумма возмещения, тыс.руб. | BW12: Реквизиты решения | CI12: Комментарии
AQ13: Всего | AR13: Январь | AS13: Февраль | AT13: Март | AU13: Апрель | AV13: Май | AW13: Июнь | AX13: Июль | AY13: Август | AZ13: Сентябрь | BA13: Октябрь | BB13: Ноябрь | BC13: Декабрь | BG13: Расчёт | BH13: Фактически получено по состоянию на 30.06.2025 | BY13: Номер | BZ13: Дата принятия | CA13: URL-ссылка на решение
F15: 0
E16: Удалить | F16: =IF('Список территорий'!$F$16="","",'Список территорий'!$F$16) -> 1 | G16: =IF('Список территорий'!$G$16="","",'Список территорий'!$G$16) -> город Нижний Новгород | H16: =IF('Список территорий'!$H$16="","",'Список территорий'!$H$16) -> город Нижний Новгород | I16: =IF('Список территорий'!$I$16="","",'Список территорий'!$I$16) -> 22701000 | N16: =IF('Список территорий'!$N$16="","",'Список территорий'!$N$16) | Q16: =ROW(P17)-ROW(P16)-1 -> 0 | R16: =F16 & ".0" -> 1.0 | X16: =F16 -> 1 | AB16: 0 | AQ16: =SUMIF(БПр!$C$131:$C$160,$R16,БПр!$S$131:$S$160)+SUMIF(БПр!$C$131:$C$160,$R16,БПр!$AW$131:$AW$160)+SUMIF(БТр!$C$131:$C$160,$R16,БТр!$S$131:$S$160) -> 0
AC17: Добавить
G18: Добавить организацию
G20: Необходимо указать все тарифы для населения, применявшихся для расчётов с населением на территориях муниципальных образований субъекта РФ

Sheet TECHSHEET
A1: Алтайский край | B1: RU22 | C1: Алтайский край | E1: HEAT_PRODUCTION_TYPE_LIST | G1: TEMPLATE_SPHERE | I1: HEAT_TRANSMISSION_TARIFF_UNIT | K1: YES_NO | M1: SAX_PARSER_FEATURE | O1: VALIDATION_SETTINGS | Q1: DNS | S1: VDET_NAME | T1: VDET_ID | X1: chehonadskihev | Y1: LOGIN | AA1: YEAR_LIST | AB1: MONTH_LIST | AG1: DPR_AREA_TYPE_LIST
A2: Амурская область | B2: RU28 | C2: Амурская область | E2: некомбинированное | G2: теплоснабжения | I2: руб/Гкал | K2: да | M2: YES | O2: NO | Q2: =USE_DNS_SERVICE -> https://eias.ru | S2: Комбинированное производство, более 25 МВт | T2: 2386758239 | Y2: PASSWORD | AA2: 2012 | AB2: Январь | AG2: городское поселение
A3: Архангельская область | B3: RU29 | C3: Архангельская область | E3: комбинированное, более 25 МВт | G3: теплоснабжения | I3: руб/Гкал/час в мес | K3: нет | O3: NO | S3: Комбинированное производство, более 25 МВт :: Передача | T3: 3389587965 | X3: MD5 | Y3: ATH_SCHEME | AA3: 2013 | AB3: Февраль | AG3: сельское поселение
A4: Астраханская область | B4: RU30 | C4: Астраханская область | E4: комбинированное, менее 25 МВт | G4: холодного водоснабжения | O4: NO | Q4: NDS | S4: Комбинированное производство, более 25 МВт :: Передача :: Сбыт | T4: 3389595657 | X4: NO | Y4: RETAIN_PASSWORD | AA4: 2014 | AB4: Март | AG4: населённый пункт
A5: Белгородская область | B5: RU31 | C5: Белгородская область | G5: водоотведения | I5: COLDVSNA_TRANSMISSION_TARIFF_UNIT | M5: PROTECT_MARKER | O5: YES | Q5: 1.2 | S5: Комбинированное производство, более 25 МВт :: Сбыт | T5: 3390051601 | Y5: SESSION_ID | AA5: 2015 | AB5: Апрель
A6: Брянская область | B6: RU32 | C6: Брянская область | E6: HEAT_VD_COMPONENTS | I6: руб/куб.м | M6: FEDERAL.2024 | S6: Комбинированное производство, менее 25 МВт | T6: 2386758236 | X6: 70:107:68:40:43:52:40 | Y6: OBFUSCATED_PASSWORD | AA6: 2016 | AB6: Май | AG6: DPR_AREA_BIND_LIST
A7: Владимирская область | B7: RU33 | C7: Владимирская область | E7: Производство | G7: TEMPLATE_SPHERE_OKK_SOURCE | Q7: PERIOD | S7: Комбинированное производство, менее 25 МВт :: Передача | T7: 3389587923 | AA7: 2017 | AB7: Июнь | AG7: муниципальный район
A8: Волгоградская область | B8: RU34 | C8: Волгоградская область | E8: Передача | G8: ТИ | I8: VOTV_TRANSMISSION_TARIFF_UNIT | Q8: =god -> 2024 | S8: Комбинированное производство, менее 25 МВт :: Передача :: Сбыт | T8: 3389551038 | AA8: 2018 | AB8: Июль | AG8: муниципальный округ
A9: Вологодская область | B9: RU35 | C9: Вологодская область | E9: Сбыт | G9: Теплоисточник | I9: руб/куб.м | M9: AUTHORIZATION_MODE | S9: Комбинированное производство, менее 25 МВт :: Сбыт | T9: 3417554921 | X9: XML_ORG_LIST_TAG_NAMES | AA9: 2019 | AB9: Август | AG9: городской округ
A10: Воронежская область | B10: RU36 | C10: Воронежская область | G10: Насосная станция | M10: EIAS | Q10: Организация | S10: Некомбинированное производство | T10: 2386758240 | X10: REGION_NAME | AA10: 2020 | AB10: Сентябрь
A11: г. Москва | B11: RU77 | C11: Москва | E11: COLDVSNA_VD_COMPONENTS | G11: Канализационно-насосная станция | I11: COLDVSNA_VTOV | Q11: ="01.01." & PERIOD -> 01.01.2024 | S11: Некомбинированное производство :: Передача | T11: 2392814112 | X11: MR_NAME | AA11: 2021 | AB11: Октябрь
A12: г. Байконур | B12: RU00 | E12: Производство (подъём / добыча) воды | I12: питьевая вода | Q12: ="31.12." & PERIOD -> 31.12.2024 | S12: Некомбинированное производство :: Передача :: Сбыт | T12: 2386758237 | X12: OKTMR_NAME | AA12: 2022 | AB12: Ноябрь
A13: г. Санкт-Петербург | B13: RU78 | C13: Cанкт-Петербург | E13: Очистка воды | G13: CALC_IDENTIFIER | I13: техническая вода | S13: Некомбинированное производство :: Сбыт | T13: 2386758238 | X13: MO_NAME | AA13: 2023 | AB13: Декабрь
A14: г. Севастополь | B14: RU92 | C14: Севастополь | E14: Транспортировка воды | Q14: Виды деятельности | S14: Очистка воды :: Подвоз воды | T14: 3234983993 | X14: OKTMO_NAME | AA14: 2024
A15: Еврейская автономная область | B15: RU79 | C15: Еврейская автономная область | E15: Сбыт (распределение) воды | I15: VOTV_VTOV | Q15: ="01.01." & PERIOD -> 01.01.2024 | S15: Очистка воды :: Транспортировка воды | T15: 2936022869 | X15: RST_ORG_ID | AA15: 2025
A16: Забайкальский край | B16: RU75 | C16: Забайкальский край | E16: Подвоз воды | G16: Вид воды | I16: Без дифференциации | Q16: ="31.12." & PERIOD -> 31.12.2024 | S16: Очистка воды :: Транспортировка воды :: Сбыт (распределение) воды | T16: 2400828797 | X16: ORG_NAME | AA16: 2026
A17: Ивановская область | B17: RU37 | C17: Ивановская область | G17: Вид стоков | I17: ЖБО | J17: жидкие бытовые отходы | S17: Очистка воды :: Транспортировка воды :: Сбыт (распределение) воды :: Подвоз воды | T17: 2913158454 | X17: INN_NAME | AA17: 2027
A18: Иркутская область | B18: RU38 | C18: Иркутская область | E18: VOTV_VD_COMPONENTS | I18: ПСВ | J18: поверхностные сточные воды | Q18: Территории | S18: Очистка сточных вод :: Транспортировка сточных вод | T18: 2396016426 | X18: KPP_NAME | AA18: 2028
A19: Кабардино-Балкарская республика | B19: RU07 | C19: Республика Кабардино-Балкария | E19: Приём сточных вод | G19: RESOURCE_IDENTIFIER | I19: ХБСВ | J19: хозяйственно-бытовые сточные воды, отводимые товариществами собственников жилья, жилищно-строительными, жилищными и иными специализированными потребительскими кооперативами, управляющими организациями и другими лицами, осуществляющими деятельность по управлению многоквартирными домами, жителями индивидуальных жилых домов и другими абонентами, отводящими преимущественно сточные воды, связанные с хозяйственно-бытовой деятельностью, в отношении которых не устанавливаются нормативы водоотведения (сброса) по составу сточных вод, нормативы допустимых сбросов абонентов | O19: VOTV_FACILITY_3_INDEX_GROUP | Q19: ="01.01." & PERIOD -> 01.01.2024 | S19: Передача | T19: 5379004 | X19: VDET_NAME | AA19: 2029
A20: Калининградская область | B20: RU39 | C20: Калининградская область | E20: Очистка сточных вод | G20: ТЭ | I20: СВ (нормативы) | J20: сточные воды, отводимые абонентами, для объектов которых устанавливаются нормативы водоотведения (сброса) по составу сточных вод, нормативы допустимых сбросов абонентов | M20: COLDVSNA_FACILITY_INDEX_GROUP | O20: VOTV_FACILITY_INDEX_GROUP | Q20: ="31.12." & PERIOD -> 31.12.2024 | S20: Передача :: Сбыт | T20: 2386758235 | X20: VDET_NAME_LIST | AA20: 2030
A21: Калужская область | B21: RU40 | C21: Калужская область | E21: Транспортировка сточных вод | G21: ТЭ | I21: СВ (иные) | J21: сточные воды, отводимые иными абонентами | M21: 0 | O21: 0 | S21: Подвоз воды | T21: 2393647394 | X21: VDET_FULL_NAME_LIST
A22: Камчатский край | B22: RU41 | C22: Камчатский край | G22: холодной воды | M22: 1 | O22: 1 | S22: Приём сточных вод | T22: 2392789430 | X22: ORG_START_DATE
A23: Карачаево-Черкесская республика | B23: RU09 | C23: Республика Карачаево-Черкессия | E23: STATE_SHARE | G23: стоков | M23: 2 | O23: 2 | S23: Приём сточных вод :: Очистка сточных вод | T23: 2385677281 | X23: ORG_END_DATE
A24: Кемеровская область | B24: RU42 | C24: Кемеровская область | E24: VALUABLE_STATE_SHARE | M24: 3 | O24: 3 | S24: Приём сточных вод :: Очистка сточных вод :: Транспортировка сточных вод | T24: 2385677278 | X24: VDET_START_DATE
A25: Кировская область | B25: RU43 | C25: Кировская область | E25: 0 % | G25: TEMPLATE_CLAIM | S25: Приём сточных вод :: Транспортировка сточных вод | T25: 2385677280 | X25: VDET_END_DATE
A26: Костромская область | B26: RU44 | C26: Костромская область | E26: менее 50 % | G26: F | S26: Производство (подъём / добыча) воды | T26: 2385683014
A27: Краснодарский край | B27: RU23 | C27: Краснодарский край | E27: 50 % и более | S27: Производство (подъём / добыча) воды :: Очистка воды | T27: 2385683011
A28: Красноярский край | B28: RU24 | C28: Красноярский край | E28: 100 % | S28: Производство (подъём / добыча) воды :: Очистка воды :: Подвоз воды | T28: 2394012222 | X28: XML_MR_MO_OKTMO_LIST_TAG_NAMES
A29: Курганская область | B29: RU45 | C29: Курганская область | G29: TEMPLATE_PERIOD_COUNT | S29: Производство (подъём / добыча) воды :: Очистка воды :: Сбыт (распределение) воды | T29: 2386235944 | X29: NSRF
A30: Курская область | B30: RU46 | C30: Курская область | E30: OWNERSHIP_TYPE | G30: 2 | S30: Производство (подъём / добыча) воды :: Очистка воды :: Сбыт (распределение) воды :: Подвоз воды | T30: 2394508974 | X30: MR_NAME
A31: Ленинградская область | B31: RU47 | C31: Ленинградская область | E31: NONPRIVATE_OWNERSHIP_TYPE | S31: Производство (подъём / добыча) воды :: Очистка воды :: Транспортировка воды | T31: 2386235940 | X31: OKTMO_MR_NAME
A32: Липецкая область | B32: RU48 | C32: Липецкая область | E32: федеральная | G32: TEMPLATE_SPHERE_CODE | S32: Производство (подъём / добыча) воды :: Очистка воды :: Транспортировка воды :: Подвоз воды | T32: 2393592718 | X32: MO_NAME
A33: Магаданская область | B33: RU49 | C33: Магаданская область | E33: субъект РФ | G33: HEAT | S33: Производство (подъём / добыча) воды :: Очистка воды :: Транспортировка воды :: Сбыт (распределение) воды | T33: 2385683016 | X33: OKTMO_NAME
A34: Московская область | B34: RU50 | C34: Московская область | E34: муниципальная | G34: HEAT | S34: Производство (подъём / добыча) воды :: Очистка воды :: Транспортировка воды :: Сбыт (распределение) воды :: Подвоз воды | T34: 2385683019 | X34: TYPE
A35: Мурманская область | B35: RU51 | C35: Мурманская область | E35: частная | G35: COLDVSNA | S35: Производство (подъём / добыча) воды :: Подвоз воды | T35: 2385683021 | X35: TOTAL_PPL_COUNT
A36: Ненецкий автономный округ | B36: RU83 | C36: Ненецкий автономный округ | G36: VOTV | S36: Производство (подъём / добыча) воды :: Сбыт (распределение) воды | T36: 2385683015
A37: Нижегородская область | B37: RU52 | C37: Нижегородская область | S37: Производство (подъём / добыча) воды :: Сбыт (распределение) воды :: Подвоз воды | T37: 2394012221
A38: Новгородская область | B38: RU53 | C38: Новгородская область | G38: SPHERE_SPECIFIC_STATUS | S38: Производство (подъём / добыча) воды :: Транспортировка воды | T38: 2385683013 | X38: XML_AUTHORISATION_TAG_NAMES
A39: Новосибирская область | B39: RU54 | C39: Новосибирская область | G39: ЕТО | S39: Производство (подъём / добыча) воды :: Транспортировка воды :: Подвоз воды | T39: 2394508973 | X39: L1
A40: Омская область | B40: RU55 | C40: Омская область | G40: ЕТО | S40: Производство (подъём / добыча) воды :: Транспортировка воды :: Сбыт (распределение) воды | T40: 2385683009 | X40: L2
...

Sheet TECH_HORISONTAL
A3: LIST_MO_HEAT_ADD_RANGE
E4: О | J4: =IF(LEN(I4)=0,"",VLOOKUP(I4,OKTMO_VS_TYPE_LIST,2,FALSE)) | M4: =IF(TAX="","",TAX) -> да | CJ4: a | CK4: a | CL4: a | CM4: a | CN4: a | CO4: a | CP4: a | CQ4: a | CR4: a | CS4: a | CT4: a | CU4: a
A6: LIST_MO_COLDVSNA_ADD_RANGE
E7: О | J7: =IF(LEN(I7)=0,"",VLOOKUP(I7,OKTMO_VS_TYPE_LIST,2,FALSE)) | M7: =IF(TAX="","",TAX) -> да | CJ7: a | CK7: a | CL7: a | CM7: a | CN7: a | CO7: a | CP7: a | CQ7: a | CR7: a | CS7: a | CT7: a | CU7: a
A9: LIST_MO_VOTV_ADD_RANGE
E10: О | J10: =IF(LEN(I10)=0,"",VLOOKUP(I10,OKTMO_VS_TYPE_LIST,2,FALSE)) | M10: =IF(TAX="","",TAX) -> да | CJ10: a | CK10: a | CL10: a | CM10: a | CN10: a | CO10: a | CP10: a | CQ10: a | CR10: a | CS10: a | CT10: a | CU10: a
A13: LIST_SRC_ADD_RANGE
E14: О | Q14: =ROW(P15)-ROW(P14)-1 -> 0 | R14: =F14 & ".0" -> .0 | S14: =SUM(BH14:BH15) -> 0 | T14: =SUM(BI14:BI15) -> 0 | U14: =SUM(BJ14:BJ15) -> 0 | V14: =SUM(BK14:BK15) -> 0 | W14: =SUM(BL14:BL15) -> 0 | X14: =SUM(BM14:BM15) -> 0 | AB14: 0
AC15: Добавить объект
A18: LIST_SRC_ADD_OBJECT_RANGE
Z19: Изменить | AA19: О
A22: LIST_CNCSN_ADD_RANGE
E23: О | Q23: =COUNTIF(AA23:AA24,"О") -> 0 | R23: =F23 & ".0" -> .0 | AB23: 0
AC24: Добавить
A26: LIST_CNCSN_ADD_OBJECT_RANGE
AA27: О | AC27: КС | AH27: Найти | CK27: =SUM(CL27,CQ27,CW27,DA27,DE27) -> 0 | CL27: =SUM(CM27:CP28) -> 0 | CQ27: =SUM(CR27:CV28) -> 0 | CS27: =SUM(CT27:CU28) -> 0 | CW27: =SUM(CX27:CZ28) -> 0 | DA27: =SUM(DB27:DG28) -> 0 | DI27: 0 | DS27: =SUM(DM27:DM28) -> 0 | DT27: =SUM(DN27:DN28) -> 0 | DU27: =IF(DS27=BM27,"OK","ALARM") -> OK | DV27: =IF(DT27=CK27,"OK","ALARM") -> OK | DW27: =IF(OR(AND(BG27<=0,COMPARE_DATES(AI27,"01.01.2024","<")),AND(BG27>0,COMPARE_DATES(AI27,"01.01.2024",">="))),"ALARM","OK") -> ALARM | DX27: =IF(BM27<=0,"ALARM","OK") -> ALARM | DY27: =IF(CK27<=0,"ALARM","OK") -> ALARM | DZ27: =IF(AU27<=0,"ALARM","OK") -> ALARM | EA27: =IF(AU27<(BG27+CK27),"ALARM","OK") -> OK | EB27: =IF(AU27<(BA27+BM27),"ALARM","OK") -> OK
DJ28: Добавить ИП
A30: LIST_CNCSN_ADD_SUBOBJECT_RANGE
DH31: О
A33: LIST_PPL_TM_ADD_RANGE
E34: О | Q34: =ROW(P35)-ROW(P34)-1 -> 0 | R34: =F34 & ".0" -> .0 | X34: =F34 -> 0 | AB34: 0
AC35: Добавить
A37: LIST_PPL_TM_HEAT_ADD_RANGE
E38: О | Q38: =ROW(P39)-ROW(P38)-1 -> 0 | R38: =F38 & ".0" -> .0 | X38: =F38 -> 0 | AB38: 0 | AQ38: =SUMIF(БПр!$C$131:$C$160,$R38,БПр!$S$131:$S$160)+SUMIF(БПр!$C$131:$C$160,$R38,БПр!$AW$131:$AW$160)+SUMIF(БТр!$C$131:$C$160,$R38,БТр!$S$131:$S$160) -> 0
AC39: Добавить
A41: LIST_PPL_TM_COLDVSNA_ADD_RANGE
E42: О | Q42: =ROW(P43)-ROW(P42)-1 -> 0 | R42: =F42 & ".0" -> .0 | X42: =F42 -> 0 | AB42: 0 | AQ42: =SUMIF(ХВС.БПр!$C$131:$C$132,$R42,ХВС.БПр!$AJ$131:$AJ$132)+SUMIF(ХВС.БТр!$C$131:$C$132,$R42,ХВС.БТр!$X$131:$X$132) -> 0
AC43: Добавить
A45: LIST_PPL_TM_VOTV_ADD_RANGE
E46: О | Q46: =ROW(P47)-ROW(P46)-1 -> 0 | R46: =F46 & ".0" -> .0 | X46: =F46 -> 0 | AB46: 0 | AQ46: =SUMIF(ВО.БПр!$C$131:$C$132,$R46,ВО.БПр!$Q$131:$Q$132)+SUMIF(ВО.БТр!$C$131:$C$132,$R46,ВО.БТр!$W$131:$W$132) -> 0
AC47: Добавить
A49: LIST_PPL_TM_ADD_OBJECT_RANGE
T50: TAX | X50: NMBR | Z50: Изменить | AA50: О | AK50: =IF(LEN(AJ50)=0,"",VLOOKUP(AJ50,OKTMO_VS_TYPE_LIST,2,FALSE)) | AQ50: =SUM(AR50:BC50) -> 0 | BF50: =IF(LEN(BE50)=0,"",VLOOKUP(BE50,HEAT_TRA_NAMES_VS_TRA_CODES_LIST,2,FALSE)) | BG50: =(AE50-AF50)*AQ50/1000 -> 0

Sheet HEAT_CALC_TECH_VERTICAL
AB2: HEAT_CALC_ADD_RANGE
AB6: 12 | AC6: 6 | AD6: 6
AB9: Y | AC9: I | AD9: II
AB13: Год | AC13: I полугодие | AD13: II полугодие
AB15: =AB17 & "_" & AB9 -> 0_Y | AC15: =AC17 & "_" & AC9 -> 0_I | AD15: =AD17 & "_" & AD9 -> 0_II
AB17: =AB19 -> 0 | AC17: =AB19 -> 0 | AD17: =AB19 -> 0
AB18: Удалить
M19: № п/п | N19: Наименование показателя | O19: Единица измерения
N21: Является ли организация плательщиком НДС | AH21: HEAT_CALC_EMPTY_BASE_RANGE
AH22: HEAT_CALC_SINGLE_BASE_RANGE
M36: 4 | N36: Расходы на натуральное топливо с учётом транспортировки (перевозки) (топливо на технологические цели) | O36: тыс.руб. | AE36: =Т!AE1110 -> 0 | AF36: =Т!AF1110 -> 0 | AG36: =Т!AG1110 -> 0
M90: 5 | N90: Энергия, в том числе | O90: тыс.руб. | AE90: =SUM(AE91,AE154) -> 0 | AF90: =SUM(AF91,AF154) -> 0 | AG90: =SUM(AG91,AG154) -> 0
M91: 5.1 | N91: энергия (покупная энергия) на технологические цели | O91: тыс.руб. | AE91: =SUM(AE92,AE126,AE127) -> 0 | AF91: =SUM(AF92,AF126,AF127) -> 0 | AG91: =SUM(AG92,AG126,AG127) -> 0
M92: 5.1.1 | N92: затраты на покупную тепловую энергию | O92: тыс.руб. | AE92: =SUM(AE93,AE109) -> 0 | AF92: =SUM(AF93,AF109) -> 0 | AG92: =SUM(AG93,AG109) -> 0
M93: =M92 & ".1" -> 5.1.1.1 | N93: С коллекторов, всего | O93: тыс.руб. | AE93: =SUM(AE94,AE98,AE102) -> 0 | AF93: =SUM(AF94,AF98,AF102) -> 0 | AG93: =SUM(AG94,AG98,AG102) -> 0
M94: =M92 & ".1.1" -> 5.1.1.1.1 | N94: от станций с мощностью производства >= 25 МВт | O94: тыс.руб. | AE94: =AF94+AG94 -> 0
M95: =M92 & ".1.1.0.1" -> 5.1.1.1.1.0.1 | N95: объём ТЭ | O95: тыс. Гкал | AE95: =AF95+AG95 -> 0
M96: =M92 & ".1.1.0.2" -> 5.1.1.1.1.0.2 | N96: цена ТЭ | O96: руб./Гкал | AE96: =IF(AE95=0,0,AE94/AE95) -> 0 | AF96: =IF(AF95=0,0,AF94/AF95) -> 0 | AG96: =IF(AG95=0,0,AG94/AG95) -> 0
M98: =M92 & ".1.2" -> 5.1.1.1.2 | N98: от станций с мощностью производства < 25 МВт | O98: тыс.руб. | AE98: =AF98+AG98 -> 0
M99: =M92 & ".1.2.0.1" -> 5.1.1.1.2.0.1 | N99: объём ТЭ | O99: тыс. Гкал | AE99: =AF99+AG99 -> 0
M100: =M92 & ".1.2.0.2" -> 5.1.1.1.2.0.2 | N100: цена ТЭ | O100: руб./Гкал | AE100: =IF(AE99=0,0,AE98/AE99) -> 0 | AF100: =IF(AF99=0,0,AF98/AF99) -> 0 | AG100: =IF(AG99=0,0,AG98/AG99) -> 0
M102: =M92 & ".1.3" -> 5.1.1.1.3 | N102: от котельных | O102: тыс.руб. | AE102: =AF102+AG102 -> 0
M103: =M92 & ".1.3.0.1" -> 5.1.1.1.3.0.1 | N103: объём ТЭ | O103: тыс. Гкал | AE103: =AF103+AG103 -> 0
M104: =M92 & ".1.3.0.2" -> 5.1.1.1.3.0.2 | N104: цена ТЭ | O104: руб./Гкал | AE104: =IF(AE103=0,0,AE102/AE103) -> 0 | AF104: =IF(AF103=0,0,AF102/AF103) -> 0 | AG104: =IF(AG103=0,0,AG102/AG103) -> 0
M105: =M92 & ".2" -> 5.1.1.2 | N105: в том числе покупка потерь с коллекторов | O105: тыс.руб. | AE105: =SUM(AE106:AE108) -> 0 | AF105: =SUM(AF106:AF108) -> 0 | AG105: =SUM(AG106:AG108) -> 0
M106: =M92 & ".2.1" -> 5.1.1.2.1 | N106: от станций с мощностью производства >= 25 МВт | O106: тыс.руб. | AE106: =AF106+AG106 -> 0
M107: =M92 & ".2.2" -> 5.1.1.2.2 | N107: от станций с мощностью производства < 25 МВт | O107: тыс.руб. | AE107: =AF107+AG107 -> 0
M108: =M92 & ".2.3" -> 5.1.1.2.3 | N108: от котельных | O108: тыс.руб. | AE108: =AF108+AG108 -> 0
M109: =M92 & ".3" -> 5.1.1.3 | N109: Из тепловой сети, всего | O109: тыс.руб. | AE109: =SUM(AE110,AE114,AE118) -> 0 | AF109: =SUM(AF110,AF114,AF118) -> 0 | AG109: =SUM(AG110,AG114,AG118) -> 0
M110: =M92 & ".3.1" -> 5.1.1.3.1 | N110: от станций с мощностью производства >= 25 МВт | O110: тыс.руб. | AE110: =AF110+AG110 -> 0
M111: =M92 & ".3.1.0.1" -> 5.1.1.3.1.0.1 | N111: объём ТЭ | O111: тыс. Гкал | AE111: =AF111+AG111 -> 0
M112: =M92 & ".3.1.0.2" -> 5.1.1.3.1.0.2 | N112: цена ТЭ | O112: руб./Гкал | AE112: =IF(AE111=0,0,AE110/AE111) -> 0 | AF112: =IF(AF111=0,0,AF110/AF111) -> 0 | AG112: =IF(AG111=0,0,AG110/AG111) -> 0
M114: =M92 & ".3.2" -> 5.1.1.3.2 | N114: от станций с мощностью производства < 25 МВт | O114: тыс.руб. | AE114: =AF114+AG114 -> 0
M115: =M92 & ".3.2.0.1" -> 5.1.1.3.2.0.1 | N115: объём ТЭ | O115: тыс. Гкал | AE115: =AF115+AG115 -> 0
M116: =M92 & ".3.2.0.2" -> 5.1.1.3.2.0.2 | N116: цена ТЭ | O116: руб./Гкал | AE116: =IF(AE115=0,0,AE114/AE115) -> 0 | AF116: =IF(AF115=0,0,AF114/AF115) -> 0 | AG116: =IF(AG115=0,0,AG114/AG115) -> 0
M118: =M92 & ".3.3" -> 5.1.1.3.3 | N118: от котельных (некомбинированная выработка) | O118: тыс.руб. | AE118: =AF118+AG118 -> 0
M119: =M92 & ".3.3.0.1" -> 5.1.1.3.3.0.1 | N119: объём ТЭ | O119: тыс. Гкал | AE119: =AF119+AG119 -> 0
M120: =M92 & ".3.3.0.2" -> 5.1.1.3.3.0.2 | N120: цена ТЭ | O120: руб./Гкал | AE120: =IF(AE119=0,0,AE118/AE119) -> 0 | AF120: =IF(AF119=0,0,AF118/AF119) -> 0 | AG120: =IF(AG119=0,0,AG118/AG119) -> 0
M122: =M92 & ".4" -> 5.1.1.4 | N122: в том числе покупка потерь из тепловой сети | O122: тыс.руб. | AE122: =SUM(AE123:AE125) -> 0 | AF122: =SUM(AF123:AF125) -> 0 | AG122: =SUM(AG123:AG125) -> 0
M123: =M92 & ".4.1" -> 5.1.1.4.1 | N123: от станций с мощностью производства >= 25 МВт | O123: тыс.руб. | AE123: =AF123+AG123 -> 0
...

Sheet HEAT_FUEL_TECH_VERTICAL
AB2: HEAT_FUEL_ADD_RANGE
AB6: 12 | AC6: 6 | AD6: 6
AB9: Y | AC9: I | AD9: II
AB11: Y | AC11: I | AD11: II
AB13: Год | AC13: I полугодие | AD13: II полугодие
AB15: =AB17 & "_" & AB9 -> 0_Y | AC15: =AC17 & "_" & AC9 -> 0_I | AD15: =AD17 & "_" & AD9 -> 0_II
AB17: =AB19 -> 0 | AC17: =AB19 -> 0 | AD17: =AB19 -> 0
AB18: Удалить | AK18: HEAT_FUEL_EMPTY_BASE_RANGE
M19: № п/п | N19: Наименование показателя | O19: Единица измерения | AK19: HEAT_FUEL_SINGLE_BASE_RANGE
AK20: HEAT_FUEL_TEMPLATE_RANGE
N21: Является ли организация плательщиком НДС
N22: =IF(CALC_IDENTIFIER="","",CALC_IDENTIFIER)
M36: 4 | N36: Расходы на натуральное топливо с учётом транспортировки (перевозки) (топливо на технологические цели) | O36: тыс.руб. | AE36: =SUM(AE37,AE41:AE46,AE47,AE52,AE59,AE60,AE78:AE87) -> 0 | AF36: =SUM(AF37,AF41:AF46,AF47,AF52,AF59,AF60,AF78:AF87) -> 0 | AG36: =SUM(AG37,AG41:AG46,AG47,AG52,AG59,AG60,AG78:AG87) -> 0 | AK36: =SUM(AK37,AK41:AK46,AK47,AK52,AK59,AK60,AK78:AK87) -> 0 | AL36: =SUM(AL37,AL41:AL46,AL47,AL52,AL59,AL60,AL78:AL87) -> 0 | AM36: =SUM(AM37,AM41:AM46,AM47,AM52,AM59,AM60,AM78:AM87) -> 0
M37: 4.NG | N37: Газ природный | O37: тыс.руб. | AK37: =SUM(AK38:AK40) -> 0 | AL37: =SUM(AL38:AL40) -> 0 | AM37: =SUM(AM38:AM40) -> 0 | AQ37: NG
M38: 4.NGL | N38: Газ лимитный | O38: тыс.руб. | AK38: =AK474+AK543+AK551+AK559 -> 0 | AL38: =AL474+AL543+AL551+AL559 -> 0 | AM38: =AM474+AM543+AM551+AM559 -> 0 | AQ38: NGL
M39: 4.NGU | N39: Газ сверхлимитный | O39: тыс.руб. | AK39: =AK475+AK578+AK586+AK594 -> 0 | AL39: =AL475+AL578+AL586+AL594 -> 0 | AM39: =AM475+AM578+AM586+AM594 -> 0 | AQ39: NGU
M40: 4.NGC | N40: Газ коммерческий | O40: тыс.руб. | AK40: =AK476 -> 0 | AL40: =AL476 -> 0 | AM40: =AM476 -> 0 | AQ40: NGC
M41: 4.GBL | N41: Газ доменный | O41: тыс.руб. | AK41: =AK477+AK706+AK862+AK1018 -> 0 | AL41: =AL477+AL706+AL862+AL1018 -> 0 | AM41: =AM477+AM706+AM862+AM1018 -> 0 | AQ41: GBL
M42: 4.GCK | N42: Газ коксовый | O42: тыс.руб. | AK42: =AK478+AK707+AK863+AK1019 -> 0 | AL42: =AL478+AL707+AL863+AL1019 -> 0 | AM42: =AM478+AM707+AM863+AM1019 -> 0 | AQ42: GCK
M43: 4.GOA | N43: Газ нефтяной (попутный) | O43: тыс.руб. | AK43: =AK479+AK708+AK864+AK1020 -> 0 | AL43: =AL479+AL708+AL864+AL1020 -> 0 | AM43: =AM479+AM708+AM864+AM1020 -> 0 | AQ43: GOA
M44: 4.DSG | N44: Газ сухой отбензиненный | O44: тыс.руб. | AK44: =AK480+AK709+AK865+AK1021 -> 0 | AL44: =AL480+AL709+AL865+AL1021 -> 0 | AM44: =AM480+AM709+AM865+AM1021 -> 0 | AQ44: DSG
M45: 4.GCN | N45: Газовый конденсат | O45: тыс.руб. | AK45: =AK481+AK710+AK866+AK1022 -> 0 | AL45: =AL481+AL710+AL866+AL1022 -> 0 | AM45: =AM481+AM710+AM866+AM1022 -> 0 | AQ45: GCN
M46: 4.LNG | N46: Газ сжиженный | O46: тыс.руб. | AK46: =AK482+AK711+AK867+AK1023 -> 0 | AL46: =AL482+AL711+AL867+AL1023 -> 0 | AM46: =AM482+AM711+AM867+AM1023 -> 0 | AQ46: LNG
M47: 4.DSL | N47: Дизельное топливо | O47: тыс.руб. | AK47: =AK483+AK712+AK868+AK1024 -> 0 | AL47: =AL483+AL712+AL868+AL1024 -> 0 | AM47: =AM483+AM712+AM868+AM1024 -> 0 | AQ47: DSL
M48: 4.DSLA | N48: А (арктическое) | O48: тыс.руб. | AK48: =AK484+AK713+AK869+AK1025 -> 0 | AL48: =AL484+AL713+AL869+AL1025 -> 0 | AM48: =AM484+AM713+AM869+AM1025 -> 0 | AQ48: DSLA
M49: 4.DSLW | N49: З (зимнее) | O49: тыс.руб. | AK49: =AK485+AK714+AK870+AK1026 -> 0 | AL49: =AL485+AL714+AL870+AL1026 -> 0 | AM49: =AM485+AM714+AM870+AM1026 -> 0 | AQ49: DSLW
M50: 4.DSLS | N50: Л (летнее) | O50: тыс.руб. | AK50: =AK486+AK715+AK871+AK1027 -> 0 | AL50: =AL486+AL715+AL871+AL1027 -> 0 | AM50: =AM486+AM715+AM871+AM1027 -> 0 | AQ50: DSLS
M51: 4.DSLO | N51: Е (межсезонное) | O51: тыс.руб. | AK51: =AK487+AK716+AK872+AK1028 -> 0 | AL51: =AL487+AL716+AL872+AL1028 -> 0 | AM51: =AM487+AM716+AM872+AM1028 -> 0 | AQ51: DSLO
M52: 4.MST | N52: Мазут | O52: тыс.руб. | AK52: =AK488+AK717+AK873+AK1029 -> 0 | AL52: =AL488+AL717+AL873+AL1029 -> 0 | AM52: =AM488+AM717+AM873+AM1029 -> 0 | AQ52: MST
... M77: 4.COASKNBKD | N77: Уголь тощий спекающийся | O77: тыс.руб. | AK77: =AK513+AK742+AK898+AK1054 -> 0 | AL77: =AL513+AL742+AL898+AL1054 -> 0 | AM77: =AM513+AM742+AM898+AM1054 -> 0 | AQ77: COASKNBKD
M78: 4.ENR | N78: Энергия | O78: тыс.руб. | AK78: =SUM(AK1070,AK1076,AK1082,AK1088) -> 0 | AL78: =SUM(AL1070,AL1076,AL1082,AL1088) -> 0 | AM78: =SUM(AM1070,AM1076,AM1082,AM1088) -> 0 | AQ78: ENR
M79: 4.PWR | N79: Заявленная мощность | O79: тыс.руб. | AK79: =SUM(AK1073,AK1079,AK1085,AK1091) -> 0 | AL79: =SUM(AL1073,AL1079,AL1085,AL1091) -> 0 | AM79: =SUM(AM1073,AM1079,AM1085,AM1091) -> 0 | AQ79: PWR
M80: 4.CWD | N80: Уголь древесный | O80: тыс.руб. | AK80: =AK516+AK745+AK901+AK1057 -> 0 | AL80: =AL516+AL745+AL901+AL1057 -> 0 | AM80: =AM516+AM745+AM901+AM1057 -> 0 | AQ80: CWD
M81: 4.WDS | N81: Дрова | O81: тыс.руб. | AK81: =AK517+AK746+AK902+AK1058 -> 0 | AL81: =AL517+AL746+AL902+AL1058 -> 0 | AM81: =AM517+AM746+AM902+AM1058 -> 0 | AQ81: WDS
M82: 4.PLT | N82: Пеллеты | O82: тыс.руб. | AK82: =AK518+AK747+AK903+AK1059 -> 0 | AL82: =AL518+AL747+AL903+AL1059 -> 0 | AM82: =AM518+AM747+AM903+AM1059 -> 0 | AQ82: PLT
M83: 4.SAW | N83: Опилки | O83: тыс.руб. | AK83: =AK519+AK748+AK904+AK1060 -> 0 | AL83: =AL519+AL748+AL904+AL1060 -> 0 | AM83: =AM519+AM748+AM904+AM1060 -> 0 | AQ83: SAW
M84: 4.PEA | N84: Торф | O84: тыс.руб. | AK84: =AK520+AK749+AK905+AK1061 -> 0 | AL84: =AL520+AL749+AL905+AL1061 -> 0 | AM84: =AM520+AM749+AM905+AM1061 -> 0 | AQ84: PEA
M85: 4.SHL | N85: Сланцы | O85: тыс.руб. | AK85: =AK521+AK750+AK906+AK1062 -> 0 | AL85: =AL521+AL750+AL906+AL1062 -> 0 | AM85: =AM521+AM750+AM906+AM1062 -> 0 | AQ85: SHL
M86: 4.STF | N86: Печное бытовое топливо | O86: тыс.руб. | AK86: =AK522+AK751+AK907+AK1063 -> 0 | AL86: =AL522+AL751+AL907+AL1063 -> 0 | AM86: =AM522+AM751+AM907+AM1063 -> 0 | AQ86: STF
M87: 4.OTH | N87: Прочие виды топлива | O87: тыс.руб. | AK87: =AK1095 -> 0 | AL87: =AL1095 -> 0 | AM87: =AM1095 -> 0 | AQ87: OTH
...

Sheet COLDVSNA_CALC_TECH_VERTICAL
AB2: COLDVSNA_CALC_ADD_RANGE
AB6: 12 | AC6: 6 | AD6: 6
AB9: Y | AC9: I | AD9: II
AB13: Год | AC13: I полугодие | AD13: II полугодие
AB15: =AB17 & "_" & AB9 -> 0_Y | AC15: =AC17 & "_" & AC9 -> 0_I | AD15: =AD17 & "_" & AD9 -> 0_II
AB17: =AB19 -> 0 | AC17: =AB19 -> 0 | AD17: =AB19 -> 0
AB18: Удалить
M19: № п/п | N19: Наименование показателя | O19: Единица измерения
N21: Является ли организация плательщиком НДС | AH21: COLDVSNA_CALC_EMPTY_BASE_RANGE
N22: =IF(CALC_IDENTIFIER="","",CALC_IDENTIFIER) | AH22: COLDVSNA_CALC_SINGLE_BASE_RANGE
M23: 1 | N23: Производственные расходы | O23: тыс.руб. | AE23: =AF23+AG23 -> 0 | AF23: =SUM(AF24,AF28,AF106,AF107,AF120,AF121,AF122,AF127) -> 0 | AG23: =SUM(AG24,AG28,AG106,AG107,AG120,AG121,AG122,AG127) -> 0
M24: 1.1 | N24: Расходы на приобретение сырья и материалов и их хранение | O24: тыс.руб. | AE24: =AF24+AG24 -> 0 | AF24: =SUM(AF25,AF26,AF27) -> 0 | AG24: =SUM(AG25,AG26,AG27) -> 0
M25: 1.1.1 | N25: Реагенты | O25: тыс.руб. | AE25: =AF25+AG25 -> 0 | AF25: =ХВС.Р!AF$25 -> 0 | AG25: =ХВС.Р!AG$25 -> 0
M26: 1.1.2 | N26: Горюче-смазочные материалы | O26: тыс.руб. | AE26: =AF26+AG26 -> 0
M27: 1.1.3 | N27: Материалы и малоценные основные средства | O27: тыс.руб. | AE27: =AF27+AG27 -> 0
M28: 1.2 | N28: Расходы на энергетические ресурсы и холодную воду | O28: тыс.руб. | AE28: =AF28+AG28 -> 0 | AF28: =SUM(AF29,AF89,AF90,AF91,AF96) -> 0 | AG28: =SUM(AG29,AG89,AG90,AG91,AG96) -> 0
M29: 1.2.1 | N29: электроэнергия | O29: тыс.руб. | AE29: =AF29+AG29 -> 0 | AF29: =SUM(AF71,AF83,AF77) -> 0 | AG29: =SUM(AG71,AG83,AG77) -> 0
M30: 1.2.1.1 | N30: Объём покупной энергии
M31: 1.2.1.1.1 | N31: Объём покупной энергии по одноставочному тарифу | O31: тыс.кВт*ч | AE31: =SUM(AE32:AE36) -> 0 | AF31: =SUM(AF32:AF36) -> 0 | AG31: =SUM(AG32:AG36) -> 0
M32: 1.2.1.1.1.1 | N32: НН | O32: тыс.кВт*ч | AE32: =AF32+AG32 -> 0
M33: 1.2.1.1.1.2 | N33: СН1 | O33: тыс.кВт*ч | AE33: =AF33+AG33 -> 0
M34: 1.2.1.1.1.3 | N34: СН2 | O34: тыс.кВт*ч | AE34: =AF34+AG34 -> 0
M35: 1.2.1.1.1.4 | N35: ВН | O35: тыс.кВт*ч | AE35: =AF35+AG35 -> 0
M36: 1.2.1.1.1.5 | N36: без разбивки по напряжению | O36: тыс.кВт*ч | AE36: =AF36+AG36 -> 0
M37: 1.2.1.1.2 | N37: Объём покупной электроэнергии по двухставочному тарифу
M38: 1.2.1.1.2.1 | N38: Мощность | O38: МВт*мес | AE38: =SUM(AE39:AE43) -> 0 | AF38: =SUM(AF39:AF43) -> 0 | AG38: =SUM(AG39:AG43) -> 0
M39: 1.2.1.1.2.1.1 | N39: НН | O39: МВт*мес | AE39: =AF39+AG39 -> 0
M40: 1.2.1.1.2.1.2 | N40: СН1 | O40: МВт*мес | AE40: =AF40+AG40 -> 0
M41: 1.2.1.1.2.1.3 | N41: СН2 | O41: МВт*мес | AE41: =AF41+AG41 -> 0
M42: 1.2.1.1.2.1.4 | N42: ВН | O42: МВт*мес | AE42: =AF42+AG42 -> 0
M43: 1.2.1.1.2.1.5 | N43: ГН | O43: МВт*мес | AE43: =AF43+AG43 -> 0
M44: 1.2.1.1.2.2 | N44: Активная электроэнергия | O44: тыс.кВт*ч | AE44: =SUM(AE45:AE49) -> 0 | AF44: =SUM(AF45:AF49) -> 0 | AG44: =SUM(AG45:AG49) -> 0
M45: 1.2.1.1.2.2.1 | N45: НН | O45: тыс.кВт*ч | AE45: =AF45+AG45 -> 0
M46: 1.2.1.1.2.2.2 | N46: СН1 | O46: тыс.кВт*ч | AE46: =AF46+AG46 -> 0
M47: 1.2.1.1.2.2.3 | N47: СН2 | O47: тыс.кВт*ч | AE47: =AF47+AG47 -> 0
M48: 1.2.1.1.2.2.4 | N48: ВН | O48: тыс.кВт*ч | AE48: =AF48+AG48 -> 0
M49: 1.2.1.1.2.2.5 | N49: ГН | O49: тыс.кВт*ч | AE49: =AF49+AG49 -> 0
M50: 1.2.1.2 | N50: Тариф на электроэнергию и мощность
M51: 1.2.1.2.1 | N51: по одноставочному тарифу
M52: 1.2.1.2.1.1 | N52: НН | O52: руб./кВт*ч | AE52: =IF(AE32=0,0,AE72/AE32) -> 0
...

Sheet COLDVSNA_REAGENT_TECH_VERTICAL
AB2: COLDVSNA_REAGENT_ADD_RANGE
AB6: 12 | AC6: 6 | AD6: 6
AB9: Y | AC9: I | AD9: II
AB13: Год | AC13: I полугодие | AD13: II полугодие
AK14: COLDVSNA_REAGENT_EMPTY_BASE_RANGE
AB15: =AB17 & "_" & AB9 -> 0_Y | AC15: =AC17 & "_" & AC9 -> 0_I | AD15: =AD17 & "_" & AD9 -> 0_II | AK15: COLDVSNA_REAGENT_SINGLE_BASE_RANGE
AK16: COLDVSNA_REAGENT_TEMPLATE_RANGE
AB17: =AB19 -> 0 | AC17: =AB19 -> 0 | AD17: =AB19 -> 0 | AK17: COLDVSNA_REAGENT_EMPTY_TEMPLATE_RANGE
AB18: Удалить | AK18: COLDVSNA_REAGENT_ONE_RANGE
M19: № п/п | N19: Наименование показателя | O19: Единица измерения | AK19: COLDVSNA_REAGENT_NO_ONE_RANGE
AK20: COLDVSNA_REAGENT_OTH_RANGE
N21: Является ли организация плательщиком НДС | AK21: COLDVSNA_REAGENT_NO_OTH_RANGE
N22: =IF(CALC_IDENTIFIER="","",CALC_IDENTIFIER)
M25: 1.1.1 | N25: Итого | O25: тыс.руб. | AE25: =AF25+AG25 -> 0 | AF25: =SUM(AF27,AF64,AF92,AF346) -> 0 | AG25: =SUM(AG27,AG64,AG92,AG346) -> 0
M27: COAG | N27: Коагулянты | O27: тыс.руб. | AE27: =AF27+AG27 -> 0 | AF27: =SUMIF(ХВС.Р!$AO$28:$AO$63,ХВС.Р!$AO$27,ХВС.Р!AF$28:AF$63) -> 0 | AG27: =SUMIF(ХВС.Р!$AO$28:$AO$63,ХВС.Р!$AO$27,ХВС.Р!AG$28:AG$63) -> 0
M29: HDSFAL | N29: гидроксохлоросульфат алюминия (коагулянт смешанного типа) | O29: тыс.руб. | AK29: =AL29+AM29 -> 0 | AL29: =AL30*AL31/1000 -> 0 | AM29: =AM30*AM31/1000 -> 0
M30: =M29 & ".P" -> HDSFAL.P | N30: Цена за единицу | O30: руб./ед. | AK30: =IF(AK31=0,0,AK29*1000/AK31) -> 0
M31: =M29 & ".V" -> HDSFAL.V | N31: Объём | O31: ед. | AK31: =AL31+AM31 -> 0
M32: FES | N32: железный купорос | O32: тыс.руб. | AK32: =AL32+AM32 -> 0 | AL32: =AL33*AL34/1000 -> 0 | AM32: =AM33*AM34/1000 -> 0
M33: =M32 & ".P" -> FES.P | N33: Цена за единицу | O33: руб./ед. | AK33: =IF(AK34=0,0,AK32*1000/AK34) -> 0
M34: =M32 & ".V" -> FES.V | N34: Объём | O34: ед. | AK34: =AL34+AM34 -> 0
M35: OXCLAL | N35: оксихлорид алюминия | O35: тыс.руб. | AK35: =AL35+AM35 -> 0 | AL35: =AL36*AL37/1000 -> 0 | AM35: =AM36*AM37/1000 -> 0
M36: =M35 & ".P" -> OXCLAL.P | N36: Цена за единицу | O36: руб./ед. | AK36: =IF(AK37=0,0,AK35*1000/AK37) -> 0
M37: =M35 & ".V" -> OXCLAL.V | N37: Объём | O37: ед. | AK37: =AL37+AM37 -> 0
M38: OXCLAL10 | N38: оксихлорид алюминия 10 % | O38: тыс.руб. | AK38: =AL38+AM38 -> 0 | AL38: =AL39*AL40/1000 -> 0 | AM38: =AM39*AM40/1000 -> 0
M39: =M38 & ".P" -> OXCLAL10.P | N39: Цена за единицу | O39: руб./ед. | AK39: =IF(AK40=0,0,AK38*1000/AK40) -> 0
M40: =M38 & ".V" -> OXCLAL10.V | N40: Объём | O40: ед. | AK40: =AL40+AM40 -> 0
M41: OXCLAL18 | N41: оксихлорид алюминия 18 % | O41: тыс.руб. | AK41: =AL41+AM41 -> 0 | AL41: =AL42*AL43/1000 -> 0 | AM41: =AM42*AM43/1000 -> 0
M42: =M41 & ".P" -> OXCLAL18.P | N42: Цена за единицу | O42: руб./ед. | AK42: =IF(AK43=0,0,AK41*1000/AK43) -> 0
M43: =M41 & ".V" -> OXCLAL18.V | N43: Объём | O43: ед. | AK43: =AL43+AM43 -> 0
M44: OXCLAL30 | N44: оксихлорид алюминия 30 % | O44: тыс.руб. | AK44: =AL44+AM44 -> 0 | AL44: =AL45*AL46/1000 -> 0 | AM44: =AM45*AM46/1000 -> 0
M45: =M44 & ".P" -> OXCLAL30.P | N45: Цена за единицу | O45: руб./ед. | AK45: =IF(AK46=0,0,AK44*1000/AK46) -> 0
M46: =M44 & ".V" -> OXCLAL30.V | N46: Объём | O46: ед. | AK46: =AL46+AM46 -> 0
M47: PLOXCLAL | N47: полиоксихлорид алюминия | O47: тыс.руб. | AK47: =AL47+AM47 -> 0 | AL47: =AL48*AL49/1000 -> 0 | AM47: =AM48*AM49/1000 -> 0
M48: =M47 & ".P" -> PLOXCLAL.P | N48: Цена за единицу | O48: руб./ед. | AK48: =IF(AK49=0,0,AK47*1000/AK49) -> 0
M49: =M47 & ".V" -> PLOXCLAL.V | N49: Объём | O49: ед. | AK49: =AL49+AM49 -> 0
M50: PLOXCLAL10 | N50: полиоксихлорид алюминия 10 % | O50: тыс.руб. | AK50: =AL50+AM50 -> 0 | AL50: =AL51*AL52/1000 -> 0 | AM50: =AM51*AM52/1000 -> 0
M51: =M50 & ".P" -> PLOXCLAL10.P | N51: Цена за единицу | O51: руб./ед. | AK51: =IF(AK52=0,0,AK50*1000/AK52) -> 0
M52: =M50 & ".V" -> PLOXCLAL10.V | N52: Объём | O52: ед. | AK52: =AL52+AM52 -> 0
M53: PLOXCLAL18 | N53: полиоксихлорид алюминия 18 % | O53: тыс.руб. | AK53: =AL53+AM53 -> 0 | AL53: =AL54*AL55/1000 -> 0 | AM53: =AM54*AM55/1000 -> 0
...

Sheet VOTV_CALC_TECH_VERTICAL
AB2: VOTV_CALC_ADD_RANGE
AB6: 12 | AC6: 6 | AD6: 6
AB9: Y | AC9: I | AD9: II
AB13: Год | AC13: I полугодие | AD13: II полугодие
AB15: =AB17 & "_" & AB9 -> 0_Y | AC15: =AC17 & "_" & AC9 -> 0_I | AD15: =AD17 & "_" & AD9 -> 0_II
AB17: =AB19 -> 0 | AC17: =AB19 -> 0 | AD17: =AB19 -> 0
AB18: Удалить
M19: № п/п | N19: Наименование показателя | O19: Единица измерения
N21: Является ли организация плательщиком НДС | AH21: VOTV_CALC_EMPTY_BASE_RANGE
N22: =IF(CALC_IDENTIFIER="","",CALC_IDENTIFIER) | AH22: VOTV_CALC_SINGLE_BASE_RANGE
M23: 1 | N23: Производственные расходы | O23: тыс.руб. | AE23: =AF23+AG23 -> 0 | AF23: =SUM(AF24,AF28,AF106,AF107,AF120,AF121,AF122,AF127) -> 0 | AG23: =SUM(AG24,AG28,AG106,AG107,AG120,AG121,AG122,AG127) -> 0
M24: 1.1 | N24: Расходы на приобретение сырья и материалов и их хранение | O24: тыс.руб. | AE24: =AF24+AG24 -> 0 | AF24: =SUM(AF25,AF26,AF27) -> 0 | AG24: =SUM(AG25,AG26,AG27) -> 0
M25: 1.1.1 | N25: Реагенты | O25: тыс.руб. | AE25: =AF25+AG25 -> 0 | AF25: =ВО.Р!AF$25 -> 0 | AG25: =ВО.Р!AG$25 -> 0
M26: 1.1.2 | N26: Горюче-смазочные материалы | O26: тыс.руб. | AE26: =AF26+AG26 -> 0
M27: 1.1.3 | N27: Материалы и малоценные основные средства | O27: тыс.руб. | AE27: =AF27+AG27 -> 0
M28: 1.2 | N28: Расходы на энергетические ресурсы и холодную воду | O28: тыс.руб. | AE28: =AF28+AG28 -> 0 | AF28: =SUM(AF29,AF89,AF90,AF91,AF96) -> 0 | AG28: =SUM(AG29,AG89,AG90,AG91,AG96) -> 0
